BEGIN:VCALENDAR
VERSION:2.0
CALSCALE:GREGORIAN
PRODID:-//Diputació de Barcelona//DibaCMS//EN
BEGIN:VEVENT
UID:5403
DTSTAMP:20260424T035237
DTSTART:20120928T000000
DTEND:20130928T000000
SUMMARY:Demà, presentació oficial dels tres equips del Joventut Handbol La Llagosta
LOCATION:
METHOD:PUBLISH
X-WR-CALNAME:llagosta@llagosta.cat
X-WR-TIMEZONE:Europe/Madrid
DESCRIPTION:El Joventut Handbol La Llagosta farà demà la presentació oficial dels tres equips que tindrà aquesta temporada. L'acte tindrà lloc a partir de les quatre de la tarda al Poliesportiu Riera Seca. Tots tres conjunts disputaran partits amistosos.
URI:https://www.llagosta.cat/actualitat/noticies/dema-presentacio-oficial-dels-tres-equips-del-joventut-handbol-la-llagosta.html
CLASS:PUBLIC
END:VEVENT
END:VCALENDAR
