BEGIN:VCALENDAR
VERSION:2.0
CALSCALE:GREGORIAN
PRODID:-//Diputació de Barcelona//DibaCMS//EN
BEGIN:VEVENT
UID:5402
DTSTAMP:20260424T003015
DTSTART:20120928T000000
DTEND:20130928T000000
SUMMARY:Nova concentració de treballadors de l'Ajuntament de la Llagosta contra les retallades
LOCATION:
METHOD:PUBLISH
X-WR-CALNAME:llagosta@llagosta.cat
X-WR-TIMEZONE:Europe/Madrid
DESCRIPTION:Els treballadors de l'Ajuntament de la Llagosta s'han tornat a concentrar aquest matí per protestar contra les retallades que han aplicat en els darrers mesos els governs central i autonòmic. L'acte s'ha traslladat d'espai i, en lloc de fer-ho davant l'Ajuntament, s'ha realitzat a la porta de l'edifici administratiu del passeig del Pintor Sert.
URI:https://www.llagosta.cat/actualitat/noticies/nova-concentracio-de-treballadors-de-lajuntament-de-la-llagosta-contra-les-retallades.html
CLASS:PUBLIC
END:VEVENT
END:VCALENDAR
