BEGIN:VCALENDAR
VERSION:2.0
CALSCALE:GREGORIAN
PRODID:-//Diputació de Barcelona//DibaCMS//EN
BEGIN:VEVENT
UID:5401
DTSTAMP:20260423T171041
DTSTART:20120928T000000
DTEND:20130928T000000
SUMMARY:L'Ajuntament preveu reobrir el Complex Esportiu El Turó entre el 15 i el 22 d'octubre
LOCATION:
METHOD:PUBLISH
X-WR-CALNAME:llagosta@llagosta.cat
X-WR-TIMEZONE:Europe/Madrid
DESCRIPTION:L'equip de govern de l'Ajuntament de la Llagosta treballa amb la previsió que els 23 extreballadors del Complex Esportiu Municipal El Turó puguin ser contractats durant els primers deu dies del mes d'octubre i que l'equipament sigui reobert entre el 15 i el 22 d'octubre. Així ho va avançar ahir l'alcalde, Alberto López, durant el ple ordinari del mes de setembre. 
URI:https://www.llagosta.cat/actualitat/noticies/lajuntament-preveu-reobrir-el-complex-esportiu-el-turo-entre-el-15-i-el-22-doctubre.html
CLASS:PUBLIC
END:VEVENT
END:VCALENDAR
