BEGIN:VCALENDAR
VERSION:2.0
CALSCALE:GREGORIAN
PRODID:-//Diputació de Barcelona//DibaCMS//EN
BEGIN:VEVENT
UID:5400
DTSTAMP:20260423T190622
DTSTART:20120927T000000
DTEND:20130927T000000
SUMMARY:El ple de setembre, que se celebra aquesta tarda, tractarà diversos punts sobre el Turó
LOCATION:
METHOD:PUBLISH
X-WR-CALNAME:llagosta@llagosta.cat
X-WR-TIMEZONE:Europe/Madrid
DESCRIPTION:Els darrers esdeveniments relacionats amb el Complex Esportiu Municipal El Turó centraran una part del ple ordinari de setembre que celebra aquesta tarda l'Ajuntament de la Llagosta. La sessió començarà a les set.
URI:https://www.llagosta.cat/actualitat/noticies/el-ple-de-setembre-que-se-celebra-aquesta-tarda-tractara-diversos-punts-sobre-el-turo.html
CLASS:PUBLIC
END:VEVENT
END:VCALENDAR
