BEGIN:VCALENDAR
VERSION:2.0
CALSCALE:GREGORIAN
PRODID:-//Diputació de Barcelona//DibaCMS//EN
BEGIN:VEVENT
UID:5398
DTSTAMP:20260423T222602
DTSTART:20120927T000000
DTEND:20130927T000000
SUMMARY:El sènior de l'EBC guanya el primer partit de la lliga contra el Llinars (61-49)
LOCATION:
METHOD:PUBLISH
X-WR-CALNAME:llagosta@llagosta.cat
X-WR-TIMEZONE:Europe/Madrid
DESCRIPTION:El primer equip de l'Esportiu Bàsquet Club de la Llagosta jugarà el proper cap de setmana contra el Club Bàsquet la Garriga B. Els de la nostra localitat van obtenir la jornada passada la primera victòria de la lliga davant del Llinars per 61 a 49.
URI:https://www.llagosta.cat/actualitat/noticies/el-senior-de-lebc-guanya-el-primer-partit-de-la-lliga-contra-el-llinars-61-49.html
CLASS:PUBLIC
END:VEVENT
END:VCALENDAR
