BEGIN:VCALENDAR
VERSION:2.0
CALSCALE:GREGORIAN
PRODID:-//Diputació de Barcelona//DibaCMS//EN
BEGIN:VEVENT
UID:5397
DTSTAMP:20260424T035510
DTSTART:20120927T000000
DTEND:20130927T000000
SUMMARY:Dues parades del Mercat Municipal de la Llagosta són objecte d'un robatori
LOCATION:
METHOD:PUBLISH
X-WR-CALNAME:llagosta@llagosta.cat
X-WR-TIMEZONE:Europe/Madrid
DESCRIPTION:Aquesta nit s'ha produït un robatori a dues parades del Mercat Municipal de la Llagosta, concretament a un bar i a una cansaladeria. El lladre o lladres s'han emportat només els diners de les caixes. La Policia Local ha rebut l'avís d'un dels paradistes al voltant de les sis del matí. Ara, els agents estan investigant els fets.	
URI:https://www.llagosta.cat/actualitat/noticies/dues-parades-del-mercat-municipal-de-la-llagosta-son-objecte-dun-robatori.html
CLASS:PUBLIC
END:VEVENT
END:VCALENDAR
