BEGIN:VCALENDAR
VERSION:2.0
CALSCALE:GREGORIAN
PRODID:-//Diputació de Barcelona//DibaCMS//EN
BEGIN:VEVENT
UID:5396
DTSTAMP:20260423T184436
DTSTART:20120927T000000
DTEND:20130927T000000
SUMMARY:El Consistori explica en una carta els motius del tancament temporal del Turó
LOCATION:
METHOD:PUBLISH
X-WR-CALNAME:llagosta@llagosta.cat
X-WR-TIMEZONE:Europe/Madrid
DESCRIPTION:L'Ajuntament de la Llagosta enviarà avui una carta als 1.700 abonats del Complex Esportiu Municipal El Turó i demà a tots els veïns explicant-los que el tancament temporal de les instal·lacions es va portar a terme després de confirmar que l'empresa concessionària de la gestió d'aquest equipament, Geafe, havia acomiadat els 23 treballadors amb data de 15 d'agost. 
URI:https://www.llagosta.cat/actualitat/noticies/el-consistori-explica-en-una-carta-els-motius-del-tancament-temporal-del-turo.html
CLASS:PUBLIC
END:VEVENT
END:VCALENDAR
