BEGIN:VCALENDAR
VERSION:2.0
CALSCALE:GREGORIAN
PRODID:-//Diputació de Barcelona//DibaCMS//EN
BEGIN:VEVENT
UID:5395
DTSTAMP:20260424T093032
DTSTART:20120926T000000
DTEND:20130926T000000
SUMMARY:El sènior del Vallag jugarà dissabte el primer partit de lliga a la Segona Catalana
LOCATION:
METHOD:PUBLISH
X-WR-CALNAME:llagosta@llagosta.cat
X-WR-TIMEZONE:Europe/Madrid
DESCRIPTION:El sènior de l'Handbol Club Vallag de la Llagosta començarà la lliga dissabte. Els de la nostra localitat disputaran el seu primer partit a la Segona Catalana a la pista del Sant Martí Adrianenc C.
URI:https://www.llagosta.cat/actualitat/noticies/el-senior-del-vallag-jugara-dissabte-el-primer-partit-de-lliga-a-la-segona-catalana.html
CLASS:PUBLIC
END:VEVENT
END:VCALENDAR
