BEGIN:VCALENDAR
VERSION:2.0
CALSCALE:GREGORIAN
PRODID:-//Diputació de Barcelona//DibaCMS//EN
BEGIN:VEVENT
UID:5394
DTSTAMP:20260423T190429
DTSTART:20120926T000000
DTEND:20130926T000000
SUMMARY:El PSC exigeix una solució ràpida al tancament del Complex Esportiu Municipal El Turó
LOCATION:
METHOD:PUBLISH
X-WR-CALNAME:llagosta@llagosta.cat
X-WR-TIMEZONE:Europe/Madrid
DESCRIPTION:El Partit dels Socialistes de la Llagosta proposa que es convoqui una mesa de negociació a tres bandes entre els treballadors del Complex Esportiu Municipal El Turó, l'empresa Geafe i l'Ajuntament, amb la presència de tots els grups municipals, per trobar una solució ràpida, eficaç i de consens a la problemàtica que afecta a aquest equipament. 
URI:https://www.llagosta.cat/actualitat/noticies/el-psc-exigeix-una-solucio-rapida-al-tancament-del-complex-esportiu-municipal-el-turo.html
CLASS:PUBLIC
END:VEVENT
END:VCALENDAR
