BEGIN:VCALENDAR
VERSION:2.0
CALSCALE:GREGORIAN
PRODID:-//Diputació de Barcelona//DibaCMS//EN
BEGIN:VEVENT
UID:5392
DTSTAMP:20260423T224136
DTSTART:20120926T000000
DTEND:20130926T000000
SUMMARY:El Casal Infantil de la Llagosta començarà les activitats del nou curs dilluns
LOCATION:
METHOD:PUBLISH
X-WR-CALNAME:llagosta@llagosta.cat
X-WR-TIMEZONE:Europe/Madrid
DESCRIPTION:El Casal Infantil de la Llagosta presentarà novetats aquest curs. Aquest equipament municipal organitzarà els dijous propostes obertes a tota la família. Les activitats ordinàries del centre començaran l'1 d'octubre.
URI:https://www.llagosta.cat/actualitat/noticies/el-casal-infantil-de-la-llagosta-comencara-les-activitats-del-nou-curs-dilluns.html
CLASS:PUBLIC
END:VEVENT
END:VCALENDAR
