BEGIN:VCALENDAR
VERSION:2.0
CALSCALE:GREGORIAN
PRODID:-//Diputació de Barcelona//DibaCMS//EN
BEGIN:VEVENT
UID:5391
DTSTAMP:20260423T152139
DTSTART:20120926T000000
DTEND:20130926T000000
SUMMARY:La Colla Gegantera, satisfeta amb la seva participació a la Trobada de Calella
LOCATION:
METHOD:PUBLISH
X-WR-CALNAME:llagosta@llagosta.cat
X-WR-TIMEZONE:Europe/Madrid
DESCRIPTION:Una trentena de persones van acompanyar diumenge els tres gegants de la Llagosta a la Trobada de Calella, que arribava a la seva edició número 30. La Colla Gegantera de la Llagosta ha fet un balanç molt positiu de la seva participació en aquesta activitat. 
URI:https://www.llagosta.cat/actualitat/noticies/la-colla-gegantera-satisfeta-amb-la-seva-participacio-a-la-trobada-de-calella.html
CLASS:PUBLIC
END:VEVENT
END:VCALENDAR
