BEGIN:VCALENDAR
VERSION:2.0
CALSCALE:GREGORIAN
PRODID:-//Diputació de Barcelona//DibaCMS//EN
BEGIN:VEVENT
UID:5390
DTSTAMP:20260424T091729
DTSTART:20120925T000000
DTEND:20130925T000000
SUMMARY:L'Ajuntament treballar per minimitzar la pujada en el rebut de l'aigua
LOCATION:
METHOD:PUBLISH
X-WR-CALNAME:llagosta@llagosta.cat
X-WR-TIMEZONE:Europe/Madrid
DESCRIPTION:L'Ajuntament de la Llagosta està estudiant com minimitzar la pujada en el rebut de l'aigua que suposarà l'increment aprovat per l'empresa pública Aigües Ter-Llobregat (ATLL). El Consistori llagostenc i altres municipis vallesans, a través del Consell Comarcal, emprendran accions per requerir a l'empresa més explicacions sobre el motius d'aquest augment. 
URI:https://www.llagosta.cat/actualitat/noticies/lajuntament-treballar-per-minimitzar-la-pujada-en-el-rebut-de-laigua.html
CLASS:PUBLIC
END:VEVENT
END:VCALENDAR
