BEGIN:VCALENDAR
VERSION:2.0
CALSCALE:GREGORIAN
PRODID:-//Diputació de Barcelona//DibaCMS//EN
BEGIN:VEVENT
UID:5387
DTSTAMP:20260424T075321
DTSTART:20120925T000000
DTEND:20130925T000000
SUMMARY:L'equip sènior del CD La Concòrdia debuta amb una victòria contra l'Arrels-Penya Solsona
LOCATION:
METHOD:PUBLISH
X-WR-CALNAME:llagosta@llagosta.cat
X-WR-TIMEZONE:Europe/Madrid
DESCRIPTION:El sènior del Club Deportivo La Concòrdia ha començat la lliga amb una clara victòria (6-2) davant l'Arrels–Penya Solsona. Les jugadores de futbol sala femení de la Llagosta han debutat amb molt bon peu a la Divisió d'Honor Catalana.
URI:https://www.llagosta.cat/actualitat/noticies/lequip-senior-del-cd-la-concordia-debuta-amb-una-victoria-contra-larrels-penya-solsona.html
CLASS:PUBLIC
END:VEVENT
END:VCALENDAR
