BEGIN:VCALENDAR
VERSION:2.0
CALSCALE:GREGORIAN
PRODID:-//Diputació de Barcelona//DibaCMS//EN
BEGIN:VEVENT
UID:5386
DTSTAMP:20260424T004611
DTSTART:20120924T000000
DTEND:20130924T000000
SUMMARY:El Viejas Glorias debuta a la lliga amb un empat a casa contra el Sant Quirze
LOCATION:
METHOD:PUBLISH
X-WR-CALNAME:llagosta@llagosta.cat
X-WR-TIMEZONE:Europe/Madrid
DESCRIPTION:El Club Deportivo Viejas Glorias va començar dissabte la lliga amb un empat a casa a tres gols contra el Sant Quirze. Els visitants van fer el darrer gol del partit en el temps de descompte i gràcies a un penal inexistent.
URI:https://www.llagosta.cat/actualitat/noticies/el-viejas-glorias-debuta-a-la-lliga-amb-un-empat-a-casa-contra-el-sant-quirze.html
CLASS:PUBLIC
END:VEVENT
END:VCALENDAR
