BEGIN:VCALENDAR
VERSION:2.0
CALSCALE:GREGORIAN
PRODID:-//Diputació de Barcelona//DibaCMS//EN
BEGIN:VEVENT
UID:5385
DTSTAMP:20260424T091109
DTSTART:20120924T000000
DTEND:20130924T000000
SUMMARY:L'Ajuntament es va veure obligat dissabte a tancar temporalment el Complex Esportiu El Turó 
LOCATION:
METHOD:PUBLISH
X-WR-CALNAME:llagosta@llagosta.cat
X-WR-TIMEZONE:Europe/Madrid
DESCRIPTION:L'Ajuntament de la Llagosta es va veure obligat dissabte a tancar temporalment el Complex Esportiu Municipal El Turó després de confirmar que l'empresa concessionària de la gestió d'aquest equipament, Geafe, havia acomiadat els 23 treballadors amb data de 15 d'agost. El Consistori enviarà aquesta setmana una carta als usuaris de la instal·lació per explicar-los la situació i de quina manera se'ls retornarà la quota corresponent als dies que estigui tancat l'equipament.
URI:https://www.llagosta.cat/actualitat/noticies/lajuntament-es-va-veure-obligat-dissabte-a-tancar-temporalment-el-complex-esportiu-el-turo-.html
CLASS:PUBLIC
END:VEVENT
END:VCALENDAR
