BEGIN:VCALENDAR
VERSION:2.0
CALSCALE:GREGORIAN
PRODID:-//Diputació de Barcelona//DibaCMS//EN
BEGIN:VEVENT
UID:5384
DTSTAMP:20260424T035315
DTSTART:20120924T000000
DTEND:20130924T000000
SUMMARY:La Policia Local deté dos individus durant el cap de setmana per motius diversos
LOCATION:
METHOD:PUBLISH
X-WR-CALNAME:llagosta@llagosta.cat
X-WR-TIMEZONE:Europe/Madrid
DESCRIPTION:La Policia Local de la Llagosta ha detingut aquesta nit un jove per atemptat contra agent de l'autoritat. El fet s'ha produït quan una patrulla s'ha dirigit al carrer del Pintor Fortuny, on hi havia una baralla. Un dels participants en aquest incident ha intentat agredir un agent i ha estat detingut.
URI:https://www.llagosta.cat/actualitat/noticies/la-policia-local-dete-dos-individus-durant-el-cap-de-setmana-per-motius-diversos.html
CLASS:PUBLIC
END:VEVENT
END:VCALENDAR
