BEGIN:VCALENDAR
VERSION:2.0
CALSCALE:GREGORIAN
PRODID:-//Diputació de Barcelona//DibaCMS//EN
BEGIN:VEVENT
UID:5383
DTSTAMP:20260424T092815
DTSTART:20120924T000000
DTEND:20130924T000000
SUMMARY:La Llagosta va celebrar ahir la Diada de la Bicicleta amb més de 500 participants
LOCATION:
METHOD:PUBLISH
X-WR-CALNAME:llagosta@llagosta.cat
X-WR-TIMEZONE:Europe/Madrid
DESCRIPTION:Més de 500 persones van participar ahir en la Diada de la Bicicleta que organitza l'Ajuntament de la Llagosta i que arribava a la setzena edició. Els participants es van concentrar a la plaça d'Antoni Baqué des d'on van iniciar un breu recorregut pel nostre municipi que va acabar al Parc Popular. 
URI:https://www.llagosta.cat/actualitat/noticies/la-llagosta-va-celebrar-ahir-la-diada-de-la-bicicleta-amb-mes-de-500-participants.html
CLASS:PUBLIC
END:VEVENT
END:VCALENDAR
