BEGIN:VCALENDAR
VERSION:2.0
CALSCALE:GREGORIAN
PRODID:-//Diputació de Barcelona//DibaCMS//EN
BEGIN:VEVENT
UID:5382
DTSTAMP:20260423T223154
DTSTART:20120922T000000
DTEND:20130923T000000
SUMMARY:L'Ajuntament es veu obligat a tancar temporalment el Complex Esportiu El Turó
LOCATION:
METHOD:PUBLISH
X-WR-CALNAME:llagosta@llagosta.cat
X-WR-TIMEZONE:Europe/Madrid
DESCRIPTION:Les instal·lacions del Complex Esportiu Municipal El Turó romandran tancades a partir d'avui de forma temporal per raons organitzatives i de manteniment. L'Ajuntament de la Llagosta ha pres aquesta decisió per raons que no tenen res a veure amb la voluntat del Consistori i espera reobrir l'equipament el més aviat possible.
URI:https://www.llagosta.cat/actualitat/noticies/lajuntament-es-veu-obligat-a-tancar-temporalment-el-complex-esportiu-el-turo.html
CLASS:PUBLIC
END:VEVENT
END:VCALENDAR
