BEGIN:VCALENDAR
VERSION:2.0
CALSCALE:GREGORIAN
PRODID:-//Diputació de Barcelona//DibaCMS//EN
BEGIN:VEVENT
UID:5381
DTSTAMP:20260424T075220
DTSTART:20120921T000000
DTEND:20130921T000000
SUMMARY:Membres del CE Fondistes correran demà un mitja marató a la localitat de Barbastre
LOCATION:
METHOD:PUBLISH
X-WR-CALNAME:llagosta@llagosta.cat
X-WR-TIMEZONE:Europe/Madrid
DESCRIPTION:El Club Esportiu Fondistes de la Llagosta participarà demà a la vintena edició de la mitja marató ruta del Vino Somontano. Tres atletes de l'entitat correran aquesta cursa, que es farà a Barbastre (Osca).
URI:https://www.llagosta.cat/actualitat/noticies/membres-del-ce-fondistes-correran-dema-un-mitja-marato-a-la-localitat-de-barbastre.html
CLASS:PUBLIC
END:VEVENT
END:VCALENDAR
