BEGIN:VCALENDAR
VERSION:2.0
CALSCALE:GREGORIAN
PRODID:-//Diputació de Barcelona//DibaCMS//EN
BEGIN:VEVENT
UID:5380
DTSTAMP:20260423T202809
DTSTART:20120921T000000
DTEND:20130921T000000
SUMMARY:L'Ajuntament organitzarà diumenge la 16a Diada de la Bicicleta de la Llagosta
LOCATION:
METHOD:PUBLISH
X-WR-CALNAME:llagosta@llagosta.cat
X-WR-TIMEZONE:Europe/Madrid
DESCRIPTION:Diumenge, se celebrarà la setzena Diada de la Bicicleta, que organitza l'Ajuntament de la Llagosta. Unes 230 persones ja s'han inscrit per participar en aquesta activitat. No obstant això, el mateix diumenge tothom que vulgui podrà prendre part en la Diada de la Bicicleta. 
URI:https://www.llagosta.cat/actualitat/noticies/lajuntament-organitzara-diumenge-la-16a-diada-de-la-bicicleta-de-la-llagosta.html
CLASS:PUBLIC
END:VEVENT
END:VCALENDAR
