BEGIN:VCALENDAR
VERSION:2.0
CALSCALE:GREGORIAN
PRODID:-//Diputació de Barcelona//DibaCMS//EN
BEGIN:VEVENT
UID:5379
DTSTAMP:20260424T055301
DTSTART:20120921T000000
DTEND:20130921T000000
SUMMARY:Empleats de l'Ajuntament es tornen a concentrar en contra de les retallades
LOCATION:
METHOD:PUBLISH
X-WR-CALNAME:llagosta@llagosta.cat
X-WR-TIMEZONE:Europe/Madrid
DESCRIPTION:Un grup de treballadors de l'Ajuntament de la Llagosta s'han concentrat aquest matí davant de les portes de l'edifici consistorial per protestar contra les retallades que han aplicat en els darrers mesos els governs central i autonòmic. Des de fa unes setmanes, empleats del Consistori llagostenc fan aquest acte de protesta cada divendres durant uns deu minuts. 
URI:https://www.llagosta.cat/actualitat/noticies/14-04-2015-empleats-de-lajuntament-es-tornen-a-concentrar-en-contra-de-les-retallades.html
CLASS:PUBLIC
END:VEVENT
END:VCALENDAR
