BEGIN:VCALENDAR
VERSION:2.0
CALSCALE:GREGORIAN
PRODID:-//Diputació de Barcelona//DibaCMS//EN
BEGIN:VEVENT
UID:5378
DTSTAMP:20260424T111544
DTSTART:20120921T000000
DTEND:20130921T000000
SUMMARY:Vallès Visió oferirà demà en diferit el primer partit de lliga del CD La Concòrdia
LOCATION:
METHOD:PUBLISH
X-WR-CALNAME:llagosta@llagosta.cat
X-WR-TIMEZONE:Europe/Madrid
DESCRIPTION:El partit de futbol sala femení entre el Club Deportivo La Concòrdia i l'Arrels-Penya Solsona es podrà veure demà en diferit per Vallès Visió a partir de les 19.30 hores. L'enfrontament suposarà el debut del conjunt llagostenc a la Divisió d'Honor.
URI:https://www.llagosta.cat/actualitat/noticies/valles-visio-oferira-dema-en-diferit-el-primer-partit-de-lliga-del-cd-la-concordia.html
CLASS:PUBLIC
END:VEVENT
END:VCALENDAR
