BEGIN:VCALENDAR
VERSION:2.0
CALSCALE:GREGORIAN
PRODID:-//Diputació de Barcelona//DibaCMS//EN
BEGIN:VEVENT
UID:5377
DTSTAMP:20260424T091227
DTSTART:20120921T000000
DTEND:20130921T000000
SUMMARY:La Colla Gegantera de la Llagosta estarà present diumenge en la Trobada de Calella
LOCATION:
METHOD:PUBLISH
X-WR-CALNAME:llagosta@llagosta.cat
X-WR-TIMEZONE:Europe/Madrid
DESCRIPTION:La Colla Gegantera de la Llagosta participarà diumenge en la 30a edició de la Trobada de Calella. Els membres de l'entitat i tots aquells veïns que els vulguin acompanyar sortiran a les 7.45 hores des del Centre Cultural. En funció del nombre de persones que es desplacin a Calella aniran amb tots els gegants o només amb algun d'ells.
URI:https://www.llagosta.cat/actualitat/noticies/la-colla-gegantera-de-la-llagosta-estara-present-diumenge-en-la-trobada-de-calella.html
CLASS:PUBLIC
END:VEVENT
END:VCALENDAR
