BEGIN:VCALENDAR
VERSION:2.0
CALSCALE:GREGORIAN
PRODID:-//Diputació de Barcelona//DibaCMS//EN
BEGIN:VEVENT
UID:5376
DTSTAMP:20260424T075432
DTSTART:20120920T000000
DTEND:20130920T000000
SUMMARY:Obert el període d'inscripció per a un nou curs de fotografia digital del Foto-Club La Llagosta
LOCATION:
METHOD:PUBLISH
X-WR-CALNAME:llagosta@llagosta.cat
X-WR-TIMEZONE:Europe/Madrid
DESCRIPTION:El Foto-Club La Llagosta ha obert les inscripcions per participar a un nou curs de fotografia digital. Les persones interessades poden passar pel Centre Cultural i Juvenil Can Pelegrí fins al 17 d'octubre.
URI:https://www.llagosta.cat/actualitat/noticies/obert-el-periode-dinscripcio-per-a-un-nou-curs-de-fotografia-digital-del-foto-club-la-llagosta.html
CLASS:PUBLIC
END:VEVENT
END:VCALENDAR
