BEGIN:VCALENDAR
VERSION:2.0
CALSCALE:GREGORIAN
PRODID:-//Diputació de Barcelona//DibaCMS//EN
BEGIN:VEVENT
UID:5375
DTSTAMP:20260423T222052
DTSTART:20120920T000000
DTEND:20130920T000000
SUMMARY:El sènior masculí de l'EBC comença la lliga amb una derrota a la pista del Cardedeu
LOCATION:
METHOD:PUBLISH
X-WR-CALNAME:llagosta@llagosta.cat
X-WR-TIMEZONE:Europe/Madrid
DESCRIPTION:El primer equip de l'Esportiu Bàsquet Club de la Llagosta va perdre el cap de setmana passat el primer partit de la temporada. Els llagostencs van caure a la pista del Cardedeu per 82 a 60. 
URI:https://www.llagosta.cat/actualitat/noticies/el-senior-masculi-de-lebc-comenca-la-lliga-amb-una-derrota-a-la-pista-del-cardedeu.html
CLASS:PUBLIC
END:VEVENT
END:VCALENDAR
