BEGIN:VCALENDAR
VERSION:2.0
CALSCALE:GREGORIAN
PRODID:-//Diputació de Barcelona//DibaCMS//EN
BEGIN:VEVENT
UID:5374
DTSTAMP:20260424T020642
DTSTART:20120920T000000
DTEND:20130920T000000
SUMMARY:El Viejas Glorias jugarà dissabte a casa contra el Sant Quirze el primer partit de la lliga
LOCATION:
METHOD:PUBLISH
X-WR-CALNAME:llagosta@llagosta.cat
X-WR-TIMEZONE:Europe/Madrid
DESCRIPTION:El Club Deportivo Viejas Glorias començarà dissabte la lliga 2012-2013. En la primera jornada, el conjunt llagostenc rebrà la visita del Sant Quirze. El partit començarà a les cinc de la tarda. 
URI:https://www.llagosta.cat/actualitat/noticies/el-viejas-glorias-jugara-dissabte-a-casa-contra-el-sant-quirze-el-primer-partit-de-la-lliga.html
CLASS:PUBLIC
END:VEVENT
END:VCALENDAR
