BEGIN:VCALENDAR
VERSION:2.0
CALSCALE:GREGORIAN
PRODID:-//Diputació de Barcelona//DibaCMS//EN
BEGIN:VEVENT
UID:5373
DTSTAMP:20260423T184538
DTSTART:20120920T000000
DTEND:20130920T000000
SUMMARY:El Consistori dota de més recursos els serveis d'Ocupació i de Promoció Econòmica
LOCATION:
METHOD:PUBLISH
X-WR-CALNAME:llagosta@llagosta.cat
X-WR-TIMEZONE:Europe/Madrid
DESCRIPTION:L'Ajuntament de la Llagosta ha reforçat amb més recursos els serveis d'Ocupació i Promoció Econòmica per combatre els efectes de la crisi. El Consistori ha contractat una empresa de la Llagosta per millorar el desenvolupament dels projectes tant en l'àmbit de recerca d'ocupació com en el de promoció econòmica. 
URI:https://www.llagosta.cat/actualitat/noticies/el-consistori-dota-de-mes-recursos-els-serveis-docupacio-i-de-promocio-economica.html
CLASS:PUBLIC
END:VEVENT
END:VCALENDAR
