BEGIN:VCALENDAR
VERSION:2.0
CALSCALE:GREGORIAN
PRODID:-//Diputació de Barcelona//DibaCMS//EN
BEGIN:VEVENT
UID:5372
DTSTAMP:20260424T034923
DTSTART:20120919T000000
DTEND:20130919T000000
SUMMARY:El curs del Centre de Formació d'Adults de la Llagosta comença amb 420 alumnes
LOCATION:
METHOD:PUBLISH
X-WR-CALNAME:llagosta@llagosta.cat
X-WR-TIMEZONE:Europe/Madrid
DESCRIPTION:Avui ha començat el curs al Centre de Formació d'Adults de la Llagosta. Aquest any, uns 420 alumnes ja han formalitzat la seva matrícula. Al llarg d'aquesta setmana s'incorporaran de forma gradual els estudiants dels diferents nivells que ofereix l'escola.
URI:https://www.llagosta.cat/actualitat/noticies/el-curs-del-centre-de-formacio-dadults-de-la-llagosta-comenca-amb-420-alumnes.html
CLASS:PUBLIC
END:VEVENT
END:VCALENDAR
