BEGIN:VCALENDAR
VERSION:2.0
CALSCALE:GREGORIAN
PRODID:-//Diputació de Barcelona//DibaCMS//EN
BEGIN:VEVENT
UID:5371
DTSTAMP:20260424T112012
DTSTART:20120919T000000
DTEND:20130919T000000
SUMMARY:Avui i demà estarà tallat el camí d'accés al cementiri de la Llagosta
LOCATION:
METHOD:PUBLISH
X-WR-CALNAME:llagosta@llagosta.cat
X-WR-TIMEZONE:Europe/Madrid
DESCRIPTION:El camí del cementiri de la Llagosta estarà tallat al trànsit avui i demà per unes obres d'arranjament. Aquesta actuació la porta a terme una de les empreses que està treballant en la construcció de la línia del tren d'alta velocitat.
URI:https://www.llagosta.cat/actualitat/noticies/avui-i-dema-estara-tallat-el-cami-dacces-al-cementiri-de-la-llagosta.html
CLASS:PUBLIC
END:VEVENT
END:VCALENDAR
