BEGIN:VCALENDAR
VERSION:2.0
CALSCALE:GREGORIAN
PRODID:-//Diputació de Barcelona//DibaCMS//EN
BEGIN:VEVENT
UID:5370
DTSTAMP:20260424T074637
DTSTART:20120919T000000
DTEND:20130919T000000
SUMMARY:Oberta la inscripció per a un curs d'atenció sanitària organitzat per Creu Roja
LOCATION:
METHOD:PUBLISH
X-WR-CALNAME:llagosta@llagosta.cat
X-WR-TIMEZONE:Europe/Madrid
DESCRIPTION:Creu Roja Mollet-Baix Vallès organitza un nou curs d'atenció sanitària immediata, el que abans era primers auxilis. Les inscripcions es poden fer fins al 28 de setembre a la seu de l'entitat, a la plaça d'Enric Rosés, número 5, de Mollet, molt a prop de l'ambulatori de Can Pantiquet. 
URI:https://www.llagosta.cat/actualitat/noticies/oberta-la-inscripcio-per-a-un-curs-datencio-sanitaria-organitzat-per-creu-roja.html
CLASS:PUBLIC
END:VEVENT
END:VCALENDAR
