BEGIN:VCALENDAR
VERSION:2.0
CALSCALE:GREGORIAN
PRODID:-//Diputació de Barcelona//DibaCMS//EN
BEGIN:VEVENT
UID:5369
DTSTAMP:20260424T091310
DTSTART:20120919T000000
DTEND:20130919T000000
SUMMARY:El sènior del CD La Concòrdia debutarà dissabte a la lliga contra l'Arrels-Penya Solsona
LOCATION:
METHOD:PUBLISH
X-WR-CALNAME:llagosta@llagosta.cat
X-WR-TIMEZONE:Europe/Madrid
DESCRIPTION:El sènior del Club Deportivo La Concòrdia començarà dissabte la lliga a la Divisió d'Honor Catalana de futbol sala femení rebent la visita de l'Arrels-Penya Solsona. Les de Benito Molero debuten a la categoria després de l'ascens aconseguit la temporada passada.
URI:https://www.llagosta.cat/actualitat/noticies/el-senior-del-cd-la-concordia-debutara-dissabte-a-la-lliga-contra-larrels-penya-solsona.html
CLASS:PUBLIC
END:VEVENT
END:VCALENDAR
