BEGIN:VCALENDAR
VERSION:2.0
CALSCALE:GREGORIAN
PRODID:-//Diputació de Barcelona//DibaCMS//EN
BEGIN:VEVENT
UID:5367
DTSTAMP:20260424T055557
DTSTART:20120918T000000
DTEND:20130918T000000
SUMMARY:Dijous, començarà una nova fase de les obres de reforma de la plaça de Concòrdia
LOCATION:
METHOD:PUBLISH
X-WR-CALNAME:llagosta@llagosta.cat
X-WR-TIMEZONE:Europe/Madrid
DESCRIPTION:L'Ajuntament de la Llagosta ha convocat per a demà una reunió amb els presidents de les comunitats de veïns i els propietaris dels locals de la plaça de la Concòrdia per parlar sobre l'inici d'una nova fase de les obres de reforma d'aquest espai públic. La trobada tindrà lloc a partir de les cinc de la tarda a la sala de plens de l'edifici consistorial.
URI:https://www.llagosta.cat/actualitat/noticies/dijous-comencara-una-nova-fase-de-les-obres-de-reforma-de-la-placa-de-concordia.html
CLASS:PUBLIC
END:VEVENT
END:VCALENDAR
