BEGIN:VCALENDAR
VERSION:2.0
CALSCALE:GREGORIAN
PRODID:-//Diputació de Barcelona//DibaCMS//EN
BEGIN:VEVENT
UID:5366
DTSTAMP:20260424T061534
DTSTART:20120918T000000
DTEND:20130918T000000
SUMMARY:Aquesta setmana, la Biblioteca Municipal de la Llagosta organitza noves activitats
LOCATION:
METHOD:PUBLISH
X-WR-CALNAME:llagosta@llagosta.cat
X-WR-TIMEZONE:Europe/Madrid
DESCRIPTION:La Biblioteca Municipal de la Llagosta ha reprès les activitats per a adults, després de les vacances d'estiu. La primera proposta serà una nova sessió del Club de lectura, demà, a les quatre de la tarda.
URI:https://www.llagosta.cat/actualitat/noticies/aquesta-setmana-la-biblioteca-municipal-de-la-llagosta-organitza-noves-activitats.html
CLASS:PUBLIC
END:VEVENT
END:VCALENDAR
