BEGIN:VCALENDAR
VERSION:2.0
CALSCALE:GREGORIAN
PRODID:-//Diputació de Barcelona//DibaCMS//EN
BEGIN:VEVENT
UID:5365
DTSTAMP:20260424T111921
DTSTART:20120918T000000
DTEND:20130918T000000
SUMMARY:L'Oficina Local de Català obre el període de matriculacions per al curs 2012-2013
LOCATION:
METHOD:PUBLISH
X-WR-CALNAME:llagosta@llagosta.cat
X-WR-TIMEZONE:Europe/Madrid
DESCRIPTION:L'Oficina de Català de la Llagosta ha iniciat el període de matriculacions als diferents cursos presencials i a distància per a adults. La data límit per inscriure's és el 28 de setembre.
URI:https://www.llagosta.cat/actualitat/noticies/loficina-local-de-catala-obre-el-periode-de-matriculacions-per-al-curs-2012-2013.html
CLASS:PUBLIC
END:VEVENT
END:VCALENDAR
