BEGIN:VCALENDAR
VERSION:2.0
CALSCALE:GREGORIAN
PRODID:-//Diputació de Barcelona//DibaCMS//EN
BEGIN:VEVENT
UID:5364
DTSTAMP:20260423T203243
DTSTART:20120917T000000
DTEND:20130917T000000
SUMMARY:El nombre d'aturats va augmentar a la Llagosta durant el mes d'agost en 42 persones
LOCATION:
METHOD:PUBLISH
X-WR-CALNAME:llagosta@llagosta.cat
X-WR-TIMEZONE:Europe/Madrid
DESCRIPTION:L'atur va augmentar a la Llagosta el mes d'agost en 42 persones. La taxa d'atur s'ha situat en el 20,32%. Aquesta pujada trenca amb tres mesos consecutius de descens de la desocupació a la nostra localitat. 
URI:https://www.llagosta.cat/actualitat/noticies/el-nombre-daturats-va-augmentar-a-la-llagosta-durant-el-mes-dagost-en-42-persones.html
CLASS:PUBLIC
END:VEVENT
END:VCALENDAR
