BEGIN:VCALENDAR
VERSION:2.0
CALSCALE:GREGORIAN
PRODID:-//Diputació de Barcelona//DibaCMS//EN
BEGIN:VEVENT
UID:5363
DTSTAMP:20260423T222634
DTSTART:20120917T000000
DTEND:20130917T000000
SUMMARY:La Unión Llagostense derrota l'Arrahona per 2 a 5 en partit de preparació de la lliga
LOCATION:
METHOD:PUBLISH
X-WR-CALNAME:llagosta@llagosta.cat
X-WR-TIMEZONE:Europe/Madrid
DESCRIPTION:El Fútbol Sala Unión Llagostense va guanyar el cap de setmana el segon amistós de la pretemporada. Els de la nostra localitat van vèncer l'Arrahona de Sabadell per 2 a 5.
URI:https://www.llagosta.cat/actualitat/noticies/la-union-llagostense-derrota-larrahona-per-2-a-5-en-partit-de-preparacio-de-la-lliga.html
CLASS:PUBLIC
END:VEVENT
END:VCALENDAR
