BEGIN:VCALENDAR
VERSION:2.0
CALSCALE:GREGORIAN
PRODID:-//Diputació de Barcelona//DibaCMS//EN
BEGIN:VEVENT
UID:5362
DTSTAMP:20260423T220246
DTSTART:20120917T000000
DTEND:20130917T000000
SUMMARY:El Viejas Glorias empata amb el Campoamor (2-2) el tercer amistós de la pretemporada
LOCATION:
METHOD:PUBLISH
X-WR-CALNAME:llagosta@llagosta.cat
X-WR-TIMEZONE:Europe/Madrid
DESCRIPTION:El Club Deportivo Viejas Glorias va empatar dissabte a dos gols contra el Campoamor en el tercer partit amistós de la pretemporada. L'enfrontament va tenir lloc a la nostra localitat i el conjunt llagostenc el va disputar amb moltes baixes.
URI:https://www.llagosta.cat/actualitat/noticies/el-viejas-glorias-empata-amb-el-campoamor-2-2-el-tercer-amistos-de-la-pretemporada.html
CLASS:PUBLIC
END:VEVENT
END:VCALENDAR
