BEGIN:VCALENDAR
VERSION:2.0
CALSCALE:GREGORIAN
PRODID:-//Diputació de Barcelona//DibaCMS//EN
BEGIN:VEVENT
UID:5361
DTSTAMP:20260423T202953
DTSTART:20120914T000000
DTEND:20130914T000000
SUMMARY:L'equip sènior del CD La Concòrdia jugarà demà un amistós contra la Penya Esplugues
LOCATION:
METHOD:PUBLISH
X-WR-CALNAME:llagosta@llagosta.cat
X-WR-TIMEZONE:Europe/Madrid
DESCRIPTION:El conjunt sènior de futbol sala femení del Club Deportivo La Concòrdia jugarà demà contra la Penya Esplugues. L'enfrontament tindrà lloc al Complex Esportiu Municipal El Turó a les cinc de la tarda.
URI:https://www.llagosta.cat/actualitat/noticies/lequip-senior-del-cd-la-concordia-jugara-dema-un-amistos-contra-la-penya-esplugues.html
CLASS:PUBLIC
END:VEVENT
END:VCALENDAR
