BEGIN:VCALENDAR
VERSION:2.0
CALSCALE:GREGORIAN
PRODID:-//Diputació de Barcelona//DibaCMS//EN
BEGIN:VEVENT
UID:5360
DTSTAMP:20260424T043359
DTSTART:20120914T000000
DTEND:20130914T000000
SUMMARY:El sènior del Joventut Handbol La Llagosta s'enfrontarà demà al Creu Alta B de de Sabadell
LOCATION:
METHOD:PUBLISH
X-WR-CALNAME:llagosta@llagosta.cat
X-WR-TIMEZONE:Europe/Madrid
DESCRIPTION:El Joventut Handbol La Llagosta disputarà demà dissabte un altre partit de pretemporada. El conjunt sènior de l'entitat jugarà contra el Creu Alta B de Sabadell, mentre que el juvenil s'enfrontarà al Sant Fost.
URI:https://www.llagosta.cat/actualitat/noticies/el-senior-del-joventut-handbol-la-llagosta-senfrontara-dema-al-creu-alta-b-de-de-sabadell.html
CLASS:PUBLIC
END:VEVENT
END:VCALENDAR
