BEGIN:VCALENDAR
VERSION:2.0
CALSCALE:GREGORIAN
PRODID:-//Diputació de Barcelona//DibaCMS//EN
BEGIN:VEVENT
UID:5359
DTSTAMP:20260423T203059
DTSTART:20120914T000000
DTEND:20130914T000000
SUMMARY:El sènior masculí A de l'EBC La Llagosta inicia la lliga a la pista del Cardedeu
LOCATION:
METHOD:PUBLISH
X-WR-CALNAME:llagosta@llagosta.cat
X-WR-TIMEZONE:Europe/Madrid
DESCRIPTION:El primer equip de l'Esportiu Bàsquet Club de la Llagosta començarà la lliga aquest cap de setmana. Els llagostencs visitaran la pista del Cardedeu. El conjunt de la nostra localitat continuarà militant a la Tercera Catalana.
URI:https://www.llagosta.cat/actualitat/noticies/el-senior-masculi-a-de-lebc-la-llagosta-inicia-la-lliga-a-la-pista-del-cardedeu.html
CLASS:PUBLIC
END:VEVENT
END:VCALENDAR
