BEGIN:VCALENDAR
VERSION:2.0
CALSCALE:GREGORIAN
PRODID:-//Diputació de Barcelona//DibaCMS//EN
BEGIN:VEVENT
UID:5358
DTSTAMP:20260423T190551
DTSTART:20120914T000000
DTEND:20130914T000000
SUMMARY:Empleats de l'Ajuntament es tornen a concentrar en contra de les retallades
LOCATION:
METHOD:PUBLISH
X-WR-CALNAME:llagosta@llagosta.cat
X-WR-TIMEZONE:Europe/Madrid
DESCRIPTION:Treballadors de l'Ajuntament de la Llagosta s'han tornat a concentrar aquest matí davant de les portes de l'edifici consistorial. Aquest ha estat el vuitè Divendres Negre dels empleats municipals de la nostra localitat per protestar contra les retallades aprovades pels governs central i autonòmic. 
URI:https://www.llagosta.cat/actualitat/noticies/empleats-de-lajuntament-es-tornen-a-concentrar-en-contra-de-les-retallades.html
CLASS:PUBLIC
END:VEVENT
END:VCALENDAR
