BEGIN:VCALENDAR
VERSION:2.0
CALSCALE:GREGORIAN
PRODID:-//Diputació de Barcelona//DibaCMS//EN
BEGIN:VEVENT
UID:5357
DTSTAMP:20260423T203454
DTSTART:20120914T000000
DTEND:20130914T000000
SUMMARY:El ple adjudica a SERSA la recollida d'escombraries i la neteja viària del municipi
LOCATION:
METHOD:PUBLISH
X-WR-CALNAME:llagosta@llagosta.cat
X-WR-TIMEZONE:Europe/Madrid
DESCRIPTION:L'Ajuntament de la Llagosta va adjudicar ahir a l'empresa Serveis Reunits Societat Anònima (SERSA) la gestió de la recollida d'escombraries i de la neteja viària de la nostra localitat. El punt, el més destacat del ple extraordinari que va celebrar ahir el Consistori, va comptar amb el vot a favor dels grups de l'equip de govern (ICV-EUiA, CiU i CPLL), en contra del PSC i amb l'abstenció del PP. 
URI:https://www.llagosta.cat/actualitat/noticies/el-ple-adjudica-a-sersa-la-recollida-descombraries-i-la-neteja-viaria-del-municipi.html
CLASS:PUBLIC
END:VEVENT
END:VCALENDAR
