BEGIN:VCALENDAR
VERSION:2.0
CALSCALE:GREGORIAN
PRODID:-//Diputació de Barcelona//DibaCMS//EN
BEGIN:VEVENT
UID:5356
DTSTAMP:20260424T041548
DTSTART:20120913T000000
DTEND:20130913T000000
SUMMARY:El conjunt sènior del Vallag va derrotar dissabte el Sant Llorenç en partit de Festa Major
LOCATION:
METHOD:PUBLISH
X-WR-CALNAME:llagosta@llagosta.cat
X-WR-TIMEZONE:Europe/Madrid
DESCRIPTION:El sènior de l'Handbol Club Vallag de la Llagosta va guanyar el Sant Llorenç de Sant Feliu de Llobregat per una diferència de quinze gols. Els llagostencs van disputar el primer partit de la pretemporada el dissabte de Festa Major.
URI:https://www.llagosta.cat/actualitat/noticies/el-conjunt-senior-del-vallag-va-derrotar-dissabte-el-sant-llorenc-en-partit-de-festa-major.html
CLASS:PUBLIC
END:VEVENT
END:VCALENDAR
