BEGIN:VCALENDAR
VERSION:2.0
CALSCALE:GREGORIAN
PRODID:-//Diputació de Barcelona//DibaCMS//EN
BEGIN:VEVENT
UID:5355
DTSTAMP:20260423T202348
DTSTART:20120913T000000
DTEND:20130913T000000
SUMMARY:Montse Rosas i Antoni Boixadós, guanyadors del 12è Concurs Estatal de Fotografia
LOCATION:
METHOD:PUBLISH
X-WR-CALNAME:llagosta@llagosta.cat
X-WR-TIMEZONE:Europe/Madrid
DESCRIPTION:Montse Rozas, de Ripollet, i Antoni Boixadós, de Terrassa, han estat els guanyadors de la dotzena edició del Concurs Estatal de Fotografia organitzat pel Foto-Club La Llagosta. Rosas ha obtingut el primer premi a la categoria lliure i Boixadós, a la de la Llagosta.
URI:https://www.llagosta.cat/actualitat/noticies/montse-rosas-i-antoni-boixados-guanyadors-del-12e-concurs-estatal-de-fotografia.html
CLASS:PUBLIC
END:VEVENT
END:VCALENDAR
