BEGIN:VCALENDAR
VERSION:2.0
CALSCALE:GREGORIAN
PRODID:-//Diputació de Barcelona//DibaCMS//EN
BEGIN:VEVENT
UID:5354
DTSTAMP:20260424T021957
DTSTART:20120913T000000
DTEND:20130913T000000
SUMMARY:El FS Unión Llagostense derrota el Martorelles (2-1) en el torneig de Festa Major
LOCATION:
METHOD:PUBLISH
X-WR-CALNAME:llagosta@llagosta.cat
X-WR-TIMEZONE:Europe/Madrid
DESCRIPTION:El Fútbol Sala Unión Llagostense va aconseguir el torneig de Festa Major jugat dissabte contra el Martorelles. Els de la nostra localitat van guanyar el primer amistós de la pretemporada per 2 a 1.
URI:https://www.llagosta.cat/actualitat/noticies/el-fs-union-llagostense-derrota-el-martorelles-2-1-en-el-torneig-de-festa-major.html
CLASS:PUBLIC
END:VEVENT
END:VCALENDAR
