BEGIN:VCALENDAR
VERSION:2.0
CALSCALE:GREGORIAN
PRODID:-//Diputació de Barcelona//DibaCMS//EN
BEGIN:VEVENT
UID:5353
DTSTAMP:20260424T024128
DTSTART:20120913T000000
DTEND:20120913T000000
SUMMARY:El ple adjudicarà aquesta tarda a SERSA la recollida d'escombraries i la neteja viària
LOCATION:
METHOD:PUBLISH
X-WR-CALNAME:llagosta@llagosta.cat
X-WR-TIMEZONE:Europe/Madrid
DESCRIPTION:L'Ajuntament de la Llagosta adjudicarà aquesta tarda, durant la celebració d'un ple extraordinari, el servei de recollida d'escombraries i de neteja viària de la nostra localitat a l'empresa Serveis Reunits Societat Anònima (SERSA), que és la que va obtenir una major puntuació de les que van presentar ofertes. Abans, es desestimaran les al·legacions presentades a l'informe tècnic de valoració.
URI:https://www.llagosta.cat/actualitat/noticies/el-ple-adjudicara-aquesta-tarda-a-sersa-la-recollida-descombraries-i-la-neteja-viaria.html
CLASS:PUBLIC
END:VEVENT
END:VCALENDAR
