BEGIN:VCALENDAR
VERSION:2.0
CALSCALE:GREGORIAN
PRODID:-//Diputació de Barcelona//DibaCMS//EN
BEGIN:VEVENT
UID:5352
DTSTAMP:20260424T002553
DTSTART:20120912T000000
DTEND:20130912T000000
SUMMARY:El curs escolar 2012-2013 ha començat avui amb normalitat a la Llagosta
LOCATION:
METHOD:PUBLISH
X-WR-CALNAME:llagosta@llagosta.cat
X-WR-TIMEZONE:Europe/Madrid
DESCRIPTION:Avui ha començat el curs escolar 2012-13 a la Llagosta amb uns 1.500 alumnes matriculats als diferents centres d'educació infantil i primària. L'Ensenyament Secundari Obligatori, el Batxillerat i els estudis de Cicles Formatius de Grau Mitjà iniciaran demà les classes. Els estudiants dels Cicles Formatius de Grau Superior s'incorporaran a les aules el 19 de setembre.
URI:https://www.llagosta.cat/actualitat/noticies/el-curs-escolar-2012-2013-ha-comencat-avui-amb-normalitat-a-la-llagosta.html
CLASS:PUBLIC
END:VEVENT
END:VCALENDAR
