BEGIN:VCALENDAR
VERSION:2.0
CALSCALE:GREGORIAN
PRODID:-//Diputació de Barcelona//DibaCMS//EN
BEGIN:VEVENT
UID:5351
DTSTAMP:20260424T073143
DTSTART:20120912T000000
DTEND:20130912T000000
SUMMARY:La Festa Major es tanca amb una participació elevada i sense incidents d'importància
LOCATION:
METHOD:PUBLISH
X-WR-CALNAME:llagosta@llagosta.cat
X-WR-TIMEZONE:Europe/Madrid
DESCRIPTION:L'alcalde de la Llagosta, Alberto López, ha fet aquest matí un balanç molt positiu de la Festa Major de 2012, que s'ha celebrat a la nostra localitat durant els darrers quatre dies i que va acabar anit amb l'actuació de Reugenio i l'espectacle De película a l'escenari del carrer de l'Estació. La Festa Gran de la Llagosta ha destacat, un any més, per la participació i l'absència d'incidents d'importància. 
URI:https://www.llagosta.cat/actualitat/noticies/la-festa-major-es-tanca-amb-una-participacio-elevada-i-sense-incidents-dimportancia.html
CLASS:PUBLIC
END:VEVENT
END:VCALENDAR
