BEGIN:VCALENDAR
VERSION:2.0
CALSCALE:GREGORIAN
PRODID:-//Diputació de Barcelona//DibaCMS//EN
BEGIN:VEVENT
UID:5350
DTSTAMP:20260423T184825
DTSTART:20120912T000000
DTEND:20130912T000000
SUMMARY:Oberta la matriculació de places vacants al Centre de Formació d'Adults de la Llagosta
LOCATION:
METHOD:PUBLISH
X-WR-CALNAME:llagosta@llagosta.cat
X-WR-TIMEZONE:Europe/Madrid
DESCRIPTION:El Centre de Formació d'Adults de la Llagosta ha obert avui el període de matriculacions de places vacants per al curs 2012-2013. Aquest tràmit es pot realitzar al mateix centre, de dilluns a dijous en horari de matí, de deu a dos quarts d'una.
URI:https://www.llagosta.cat/actualitat/noticies/oberta-la-matriculacio-de-places-vacants-al-centre-de-formacio-dadults-de-la-llagosta.html
CLASS:PUBLIC
END:VEVENT
END:VCALENDAR
