BEGIN:VCALENDAR
VERSION:2.0
CALSCALE:GREGORIAN
PRODID:-//Diputació de Barcelona//DibaCMS//EN
BEGIN:VEVENT
UID:5349
DTSTAMP:20260424T020857
DTSTART:20120912T000000
DTEND:20130912T000000
SUMMARY:El Club Deportivo Viejas Glorias empata (2-2) contra l'Europa en el Trofeu de Festa Major
LOCATION:
METHOD:PUBLISH
X-WR-CALNAME:llagosta@llagosta.cat
X-WR-TIMEZONE:Europe/Madrid
DESCRIPTION:El Club Deportivo Viejas Glorias va empatar dissabte a dos gols contra l'Europa en partit corresponent al Trofeu de Festa Major. Els visitants es van emportar el torneig en guanyar a la tanda de penals. 
URI:https://www.llagosta.cat/actualitat/noticies/el-club-deportivo-viejas-glorias-empata-2-2-contra-leuropa-en-el-trofeu-de-festa-major.html
CLASS:PUBLIC
END:VEVENT
END:VCALENDAR
